Package: FLAMES Version: 2.3.5 Command: /Library/Frameworks/R.framework/Resources/bin/R CMD INSTALL FLAMES StartedAt: 2025-10-23 15:29:35 -0400 (Thu, 23 Oct 2025) EndedAt: 2025-10-23 15:30:44 -0400 (Thu, 23 Oct 2025) EllapsedTime: 69.3 seconds RetCode: 0 Status: OK