Package: FLAMES Version: 2.3.5 Command: /Library/Frameworks/R.framework/Resources/bin/R CMD build --keep-empty-dirs --no-resave-data FLAMES StartedAt: 2025-10-23 16:25:17 -0400 (Thu, 23 Oct 2025) EndedAt: 2025-10-23 16:26:14 -0400 (Thu, 23 Oct 2025) EllapsedTime: 56.6 seconds RetCode: 0 Status: OK PackageFile: FLAMES_2.3.5.tar.gz PackageFileSize: 4.11 MiB