Package: FLAMES Version: 2.3.5 Command: rm -rf FLAMES.buildbin-libdir && mkdir FLAMES.buildbin-libdir && /Users/biocbuild/BBS/utils/build-universal.sh FLAMES_2.3.5.tar.gz /Library/Frameworks/R.framework/Resources/bin/R FLAMES.buildbin-libdir StartedAt: 2025-10-24 23:03:01 -0400 (Fri, 24 Oct 2025) EndedAt: 2025-10-24 23:04:15 -0400 (Fri, 24 Oct 2025) EllapsedTime: 74.6 seconds RetCode: 0 Status: OK PackageFile: FLAMES_2.3.5.tgz PackageFileSize: 6.964 MiB