Package: FISHalyseR Version: 1.45.0 Command: /home/biocbuild/bbs-3.23-bioc/R/bin/R CMD build --keep-empty-dirs --no-resave-data FISHalyseR StartedAt: 2025-11-20 17:37:56 -0500 (Thu, 20 Nov 2025) EndedAt: 2025-11-20 17:38:13 -0500 (Thu, 20 Nov 2025) EllapsedTime: 17.0 seconds RetCode: 0 Status: OK PackageFile: FISHalyseR_1.45.0.tar.gz PackageFileSize: 781.5 KiB