Package: FISHalyseR Version: 1.43.0 Command: /Library/Frameworks/R.framework/Resources/bin/R CMD build --keep-empty-dirs --no-resave-data FISHalyseR StartedAt: 2025-10-21 17:14:52 -0400 (Tue, 21 Oct 2025) EndedAt: 2025-10-21 17:15:22 -0400 (Tue, 21 Oct 2025) EllapsedTime: 29.9 seconds RetCode: 0 Status: OK PackageFile: FISHalyseR_1.43.0.tar.gz PackageFileSize: 781.4 KiB