Package: FISHalyseR Version: 1.43.0 Command: /Library/Frameworks/R.framework/Resources/bin/R CMD INSTALL FISHalyseR StartedAt: 2025-10-05 15:07:27 -0400 (Sun, 05 Oct 2025) EndedAt: 2025-10-05 15:07:30 -0400 (Sun, 05 Oct 2025) EllapsedTime: 2.1 seconds RetCode: 0 Status: OK