Package: FISHalyseR Version: 1.43.0 Command: /Library/Frameworks/R.framework/Resources/bin/R CMD build --keep-empty-dirs --no-resave-data FISHalyseR StartedAt: 2025-10-05 16:24:58 -0400 (Sun, 05 Oct 2025) EndedAt: 2025-10-05 16:25:07 -0400 (Sun, 05 Oct 2025) EllapsedTime: 9.1 seconds RetCode: 0 Status: OK PackageFile: FISHalyseR_1.43.0.tar.gz PackageFileSize: 781.5 KiB