Package: FGNet Version: 3.43.0 Command: /home/biocbuild/R/R/bin/R CMD INSTALL FGNet StartedAt: 2025-10-02 20:30:10 -0000 (Thu, 02 Oct 2025) EndedAt: 2025-10-02 20:30:52 -0000 (Thu, 02 Oct 2025) EllapsedTime: 42.9 seconds RetCode: 0 Status: OK