Package: FGNet Version: 3.43.0 Command: /home/biocbuild/R/R/bin/R CMD build --keep-empty-dirs --no-resave-data FGNet StartedAt: 2025-10-02 23:57:53 -0000 (Thu, 02 Oct 2025) EndedAt: 2025-10-02 23:58:16 -0000 (Thu, 02 Oct 2025) EllapsedTime: 23.0 seconds RetCode: 0 Status: OK PackageFile: FGNet_3.43.0.tar.gz PackageFileSize: 2.744 MiB