Package: FGNet Version: 3.43.0 Command: chmod a+r FGNet -R && F:\biocbuild\bbs-3.22-bioc\R\bin\R.exe CMD build --keep-empty-dirs --no-resave-data FGNet StartedAt: 2025-08-14 20:10:52 -0400 (Thu, 14 Aug 2025) EndedAt: 2025-08-14 20:11:28 -0400 (Thu, 14 Aug 2025) EllapsedTime: 36.3 seconds RetCode: 0 Status: OK PackageFile: FGNet_3.43.0.tar.gz PackageFileSize: 2.72 MiB