Package: FGNet Version: 3.45.0 Command: /home/biocbuild/bbs-3.23-bioc/R/bin/R CMD check --install=check:FGNet.install-out.txt --library=/home/biocbuild/bbs-3.23-bioc/R/site-library --timings FGNet_3.45.0.tar.gz StartedAt: 2025-11-21 23:34:01 -0500 (Fri, 21 Nov 2025) EndedAt: 2025-11-21 23:35:15 -0500 (Fri, 21 Nov 2025) EllapsedTime: 74.1 seconds RetCode: 0 Status: WARNINGS CheckDir: FGNet.Rcheck Warnings: 1