Package: FGNet Version: 3.45.0 Command: /Library/Frameworks/R.framework/Resources/bin/R CMD build --keep-empty-dirs --no-resave-data FGNet StartedAt: 2025-11-20 17:00:50 -0500 (Thu, 20 Nov 2025) EndedAt: 2025-11-20 17:01:27 -0500 (Thu, 20 Nov 2025) EllapsedTime: 36.6 seconds RetCode: 0 Status: OK PackageFile: FGNet_3.45.0.tar.gz PackageFileSize: 2.72 MiB