Package: FELLA Version: 1.31.0 Command: /home/biocbuild/bbs-3.23-bioc/R/bin/R CMD INSTALL FELLA StartedAt: 2025-11-07 15:26:00 -0500 (Fri, 07 Nov 2025) EndedAt: 2025-11-07 15:26:15 -0500 (Fri, 07 Nov 2025) EllapsedTime: 15.1 seconds RetCode: 0 Status: OK