Package: FELLA Version: 1.31.0 Command: /home/biocbuild/bbs-3.23-bioc/R/bin/R CMD build --keep-empty-dirs --no-resave-data FELLA StartedAt: 2025-11-07 17:33:28 -0500 (Fri, 07 Nov 2025) EndedAt: 2025-11-07 17:56:47 -0500 (Fri, 07 Nov 2025) EllapsedTime: 1399.5 seconds RetCode: 0 Status: OK PackageFile: FELLA_1.31.0.tar.gz PackageFileSize: 4.171 MiB