Package: FELLA Version: 1.29.0 Command: /Library/Frameworks/R.framework/Resources/bin/R CMD INSTALL FELLA StartedAt: 2025-10-13 15:20:52 -0400 (Mon, 13 Oct 2025) EndedAt: 2025-10-13 15:21:15 -0400 (Mon, 13 Oct 2025) EllapsedTime: 22.6 seconds RetCode: 0 Status: OK