Package: FELLA Version: 1.29.0 Command: /Library/Frameworks/R.framework/Resources/bin/R CMD build --keep-empty-dirs --no-resave-data FELLA StartedAt: 2025-10-13 17:11:39 -0400 (Mon, 13 Oct 2025) EndedAt: 2025-10-13 17:45:43 -0400 (Mon, 13 Oct 2025) EllapsedTime: 2044.2 seconds RetCode: 0 Status: OK PackageFile: FELLA_1.29.0.tar.gz PackageFileSize: 4.334 MiB