Package: FELLA Version: 1.29.0 Command: rm -rf FELLA.buildbin-libdir && mkdir FELLA.buildbin-libdir && /Users/biocbuild/BBS/utils/build-universal.sh FELLA_1.29.0.tar.gz /Library/Frameworks/R.framework/Resources/bin/R FELLA.buildbin-libdir StartedAt: 2025-10-14 02:44:05 -0400 (Tue, 14 Oct 2025) EndedAt: 2025-10-14 02:44:32 -0400 (Tue, 14 Oct 2025) EllapsedTime: 26.9 seconds RetCode: 0 Status: OK PackageFile: FELLA_1.29.0.tgz PackageFileSize: 3.956 MiB