Package: FELLA Version: 1.29.0 Command: /Library/Frameworks/R.framework/Resources/bin/R CMD INSTALL FELLA StartedAt: 2025-10-05 15:08:54 -0400 (Sun, 05 Oct 2025) EndedAt: 2025-10-05 15:09:00 -0400 (Sun, 05 Oct 2025) EllapsedTime: 6.1 seconds RetCode: 0 Status: OK