Package: FELLA Version: 1.29.0 Command: /Library/Frameworks/R.framework/Resources/bin/R CMD build --keep-empty-dirs --no-resave-data FELLA StartedAt: 2025-10-03 16:23:10 -0400 (Fri, 03 Oct 2025) EndedAt: 2025-10-03 16:33:55 -0400 (Fri, 03 Oct 2025) EllapsedTime: 645.0 seconds RetCode: 1 Status: ERROR PackageFile: None PackageFileSize: NA