Package: FEAST Version: 1.19.0 Command: /home/biocbuild/bbs-3.23-bioc/R/bin/R CMD INSTALL FEAST StartedAt: 2025-11-05 15:49:15 -0500 (Wed, 05 Nov 2025) EndedAt: 2025-11-05 15:49:45 -0500 (Wed, 05 Nov 2025) EllapsedTime: 30.2 seconds RetCode: 0 Status: OK