Package: FEAST Version: 1.19.0 Command: /home/biocbuild/bbs-3.23-bioc/R/bin/R CMD build --keep-empty-dirs --no-resave-data FEAST StartedAt: 2025-11-06 17:32:13 -0500 (Thu, 06 Nov 2025) EndedAt: 2025-11-06 17:33:15 -0500 (Thu, 06 Nov 2025) EllapsedTime: 62.1 seconds RetCode: 0 Status: OK PackageFile: FEAST_1.19.0.tar.gz PackageFileSize: 3.509 MiB