Package: FEAST Version: 1.18.0 Command: rm -rf FEAST.buildbin-libdir && mkdir FEAST.buildbin-libdir && /Users/biocbuild/BBS/utils/build-universal.sh FEAST_1.18.0.tar.gz /Library/Frameworks/R.framework/Resources/bin/R FEAST.buildbin-libdir StartedAt: 2025-10-30 08:16:02 -0400 (Thu, 30 Oct 2025) EndedAt: 2025-10-30 08:16:51 -0400 (Thu, 30 Oct 2025) EllapsedTime: 48.6 seconds RetCode: 0 Status: OK PackageFile: FEAST_1.18.0.tgz PackageFileSize: 4.495 MiB