Package: FEAST Version: 1.17.0 Command: /Library/Frameworks/R.framework/Resources/bin/R CMD INSTALL FEAST StartedAt: 2025-10-14 15:22:13 -0400 (Tue, 14 Oct 2025) EndedAt: 2025-10-14 15:22:25 -0400 (Tue, 14 Oct 2025) EllapsedTime: 12.5 seconds RetCode: 0 Status: OK