Package: FEAST Version: 1.17.0 Command: /Library/Frameworks/R.framework/Resources/bin/R CMD build --keep-empty-dirs --no-resave-data FEAST StartedAt: 2025-10-14 16:22:30 -0400 (Tue, 14 Oct 2025) EndedAt: 2025-10-14 16:22:55 -0400 (Tue, 14 Oct 2025) EllapsedTime: 25.3 seconds RetCode: 0 Status: OK PackageFile: FEAST_1.17.0.tar.gz PackageFileSize: 3.458 MiB