Package: FEAST Version: 1.17.0 Command: rm -rf FEAST.buildbin-libdir && mkdir FEAST.buildbin-libdir && /Users/biocbuild/BBS/utils/build-universal.sh FEAST_1.17.0.tar.gz /Library/Frameworks/R.framework/Resources/bin/R FEAST.buildbin-libdir StartedAt: 2025-10-14 23:21:43 -0400 (Tue, 14 Oct 2025) EndedAt: 2025-10-14 23:21:57 -0400 (Tue, 14 Oct 2025) EllapsedTime: 14.3 seconds RetCode: 0 Status: OK PackageFile: FEAST_1.17.0.tgz PackageFileSize: 4.495 MiB