Package: ExpressionAtlas Version: 2.3.0 Command: /home/biocbuild/bbs-3.23-bioc/R/bin/R CMD INSTALL ExpressionAtlas StartedAt: 2025-11-20 15:50:07 -0500 (Thu, 20 Nov 2025) EndedAt: 2025-11-20 15:50:31 -0500 (Thu, 20 Nov 2025) EllapsedTime: 23.6 seconds RetCode: 0 Status: OK