Package: ExpressionAtlas Version: 2.3.0 Command: /home/biocbuild/bbs-3.23-bioc/R/bin/R CMD check --install=check:ExpressionAtlas.install-out.txt --library=/home/biocbuild/bbs-3.23-bioc/R/site-library --timings ExpressionAtlas_2.3.0.tar.gz StartedAt: 2025-11-20 23:31:42 -0500 (Thu, 20 Nov 2025) EndedAt: 2025-11-20 23:35:04 -0500 (Thu, 20 Nov 2025) EllapsedTime: 202.3 seconds RetCode: 0 Status: OK CheckDir: ExpressionAtlas.Rcheck Warnings: 0