Package: ExpressionAtlas Version: 2.1.1 Command: /Library/Frameworks/R.framework/Resources/bin/R CMD check --install=check:ExpressionAtlas.install-out.txt --library=/Library/Frameworks/R.framework/Resources/library --no-vignettes --timings ExpressionAtlas_2.1.1.tar.gz StartedAt: 2025-10-26 19:40:46 -0400 (Sun, 26 Oct 2025) EndedAt: 2025-10-26 19:43:12 -0400 (Sun, 26 Oct 2025) EllapsedTime: 145.8 seconds RetCode: 0 Status: OK CheckDir: ExpressionAtlas.Rcheck Warnings: 0