Package: ExploreModelMatrix Version: 1.23.0 Command: /home/biocbuild/bbs-3.23-bioc/R/bin/R CMD build --keep-empty-dirs --no-resave-data ExploreModelMatrix StartedAt: 2025-11-20 17:35:02 -0500 (Thu, 20 Nov 2025) EndedAt: 2025-11-20 17:35:20 -0500 (Thu, 20 Nov 2025) EllapsedTime: 18.0 seconds RetCode: 0 Status: OK PackageFile: ExploreModelMatrix_1.23.0.tar.gz PackageFileSize: 2.564 MiB