Package: ExperimentSubset Version: 1.19.0 Command: /home/biocbuild/R/R/bin/R CMD INSTALL ExperimentSubset StartedAt: 2025-10-13 21:00:03 -0000 (Mon, 13 Oct 2025) EndedAt: 2025-10-13 21:00:46 -0000 (Mon, 13 Oct 2025) EllapsedTime: 43.4 seconds RetCode: 0 Status: OK