Package: ExperimentSubset Version: 1.19.0 Command: /home/biocbuild/R/R/bin/R CMD build --keep-empty-dirs --no-resave-data ExperimentSubset StartedAt: 2025-10-14 00:11:34 -0000 (Tue, 14 Oct 2025) EndedAt: 2025-10-14 00:12:37 -0000 (Tue, 14 Oct 2025) EllapsedTime: 63.0 seconds RetCode: 0 Status: OK PackageFile: ExperimentSubset_1.19.0.tar.gz PackageFileSize: 332.9 KiB