Package: ExperimentSubset Version: 1.19.0 Command: F:\biocbuild\bbs-3.22-bioc\R\bin\R.exe CMD INSTALL ExperimentSubset StartedAt: 2025-08-14 16:15:42 -0400 (Thu, 14 Aug 2025) EndedAt: 2025-08-14 16:18:01 -0400 (Thu, 14 Aug 2025) EllapsedTime: 140.0 seconds RetCode: 0 Status: OK