Package: ExperimentSubset Version: 1.19.0 Command: chmod a+r ExperimentSubset -R && F:\biocbuild\bbs-3.22-bioc\R\bin\R.exe CMD build --keep-empty-dirs --no-resave-data ExperimentSubset StartedAt: 2025-08-14 20:06:29 -0400 (Thu, 14 Aug 2025) EndedAt: 2025-08-14 20:07:34 -0400 (Thu, 14 Aug 2025) EllapsedTime: 64.4 seconds RetCode: 0 Status: OK PackageFile: ExperimentSubset_1.19.0.tar.gz PackageFileSize: 307.5 KiB