Package: ExperimentSubset Version: 1.19.0 Command: rm -rf ExperimentSubset.buildbin-libdir && mkdir ExperimentSubset.buildbin-libdir && F:\biocbuild\bbs-3.22-bioc\R\bin\R.exe CMD INSTALL --build --library=ExperimentSubset.buildbin-libdir ExperimentSubset_1.19.0.tar.gz StartedAt: 2025-08-15 10:15:30 -0400 (Fri, 15 Aug 2025) EndedAt: 2025-08-15 10:21:50 -0400 (Fri, 15 Aug 2025) EllapsedTime: 380.3 seconds RetCode: 0 Status: OK PackageFile: ExperimentSubset_1.19.0.zip PackageFileSize: 712.2 KiB