Package: ExperimentSubset Version: 1.21.0 Command: /home/biocbuild/bbs-3.23-bioc/R/bin/R CMD INSTALL ExperimentSubset StartedAt: 2025-11-05 15:31:24 -0500 (Wed, 05 Nov 2025) EndedAt: 2025-11-05 15:31:57 -0500 (Wed, 05 Nov 2025) EllapsedTime: 33.0 seconds RetCode: 0 Status: OK