Package: ExperimentSubset Version: 1.21.0 Command: /home/biocbuild/bbs-3.23-bioc/R/bin/R CMD build --keep-empty-dirs --no-resave-data ExperimentSubset StartedAt: 2025-11-04 17:30:22 -0500 (Tue, 04 Nov 2025) EndedAt: 2025-11-04 17:31:09 -0500 (Tue, 04 Nov 2025) EllapsedTime: 47.1 seconds RetCode: 0 Status: OK PackageFile: ExperimentSubset_1.21.0.tar.gz PackageFileSize: 307.3 KiB