Package: ExperimentHubData Version: 1.35.0 Command: /home/biocbuild/bbs-3.22-bioc/R/bin/R CMD check --install=check:ExperimentHubData.install-out.txt --library=/home/biocbuild/bbs-3.22-bioc/R/site-library --timings ExperimentHubData_1.35.0.tar.gz StartedAt: 2025-10-05 23:51:05 -0400 (Sun, 05 Oct 2025) EndedAt: 2025-10-05 23:55:38 -0400 (Sun, 05 Oct 2025) EllapsedTime: 273.4 seconds RetCode: 0 Status: WARNINGS CheckDir: ExperimentHubData.Rcheck Warnings: 1