Package: ExperimentHubData Version: 1.37.0 Command: /home/biocbuild/bbs-3.23-bioc/R/bin/R CMD check --install=check:ExperimentHubData.install-out.txt --library=/home/biocbuild/bbs-3.23-bioc/R/site-library --timings ExperimentHubData_1.37.0.tar.gz StartedAt: 2025-11-07 23:29:43 -0500 (Fri, 07 Nov 2025) EndedAt: 2025-11-07 23:34:07 -0500 (Fri, 07 Nov 2025) EllapsedTime: 264.4 seconds RetCode: 0 Status: WARNINGS CheckDir: ExperimentHubData.Rcheck Warnings: 1