Package: ExperimentHubData Version: 1.37.0 Command: /home/biocbuild/bbs-3.23-bioc/R/bin/R CMD build --keep-empty-dirs --no-resave-data ExperimentHubData StartedAt: 2025-11-04 17:30:15 -0500 (Tue, 04 Nov 2025) EndedAt: 2025-11-04 17:30:58 -0500 (Tue, 04 Nov 2025) EllapsedTime: 43.0 seconds RetCode: 0 Status: OK PackageFile: ExperimentHubData_1.37.0.tar.gz PackageFileSize: 222.9 KiB