Package: ExperimentHub Version: 3.1.0 Command: /home/biocbuild/bbs-3.23-bioc/R/bin/R CMD INSTALL ExperimentHub StartedAt: 2025-11-14 15:26:48 -0500 (Fri, 14 Nov 2025) EndedAt: 2025-11-14 15:27:02 -0500 (Fri, 14 Nov 2025) EllapsedTime: 13.6 seconds RetCode: 0 Status: OK