Package: ExiMiR Version: 2.51.0 Command: /home/biocbuild/R/R/bin/R CMD INSTALL ExiMiR StartedAt: 2025-10-16 21:24:20 -0000 (Thu, 16 Oct 2025) EndedAt: 2025-10-16 21:24:27 -0000 (Thu, 16 Oct 2025) EllapsedTime: 7.5 seconds RetCode: 0 Status: OK