Package: ExiMiR Version: 2.51.0 Command: /home/biocbuild/R/R/bin/R CMD build --keep-empty-dirs --no-resave-data ExiMiR StartedAt: 2025-10-17 01:05:43 -0000 (Fri, 17 Oct 2025) EndedAt: 2025-10-17 01:07:34 -0000 (Fri, 17 Oct 2025) EllapsedTime: 111.0 seconds RetCode: 0 Status: OK PackageFile: ExiMiR_2.51.0.tar.gz PackageFileSize: 1.497 MiB