Package: ExiMiR Version: 2.51.0 Command: /home/biocbuild/bbs-3.22-bioc/R/bin/R CMD check --install=check:ExiMiR.install-out.txt --library=/home/biocbuild/bbs-3.22-bioc/R/site-library --timings ExiMiR_2.51.0.tar.gz StartedAt: 2025-10-17 00:49:00 -0400 (Fri, 17 Oct 2025) EndedAt: 2025-10-17 00:50:46 -0400 (Fri, 17 Oct 2025) EllapsedTime: 105.1 seconds RetCode: 0 Status: OK CheckDir: ExiMiR.Rcheck Warnings: 0