Package: ExiMiR Version: 2.53.0 Command: /home/biocbuild/bbs-3.23-bioc/R/bin/R CMD INSTALL ExiMiR StartedAt: 2025-10-31 15:20:45 -0400 (Fri, 31 Oct 2025) EndedAt: 2025-10-31 15:20:50 -0400 (Fri, 31 Oct 2025) EllapsedTime: 4.7 seconds RetCode: 0 Status: OK