Package: ExiMiR Version: 2.53.0 Command: /home/biocbuild/bbs-3.23-bioc/R/bin/R CMD build --keep-empty-dirs --no-resave-data ExiMiR StartedAt: 2025-10-31 17:45:03 -0400 (Fri, 31 Oct 2025) EndedAt: 2025-10-31 17:46:10 -0400 (Fri, 31 Oct 2025) EllapsedTime: 67.1 seconds RetCode: 0 Status: OK PackageFile: ExiMiR_2.53.0.tar.gz PackageFileSize: 1.507 MiB