Package: ExCluster Version: 1.27.0 Command: /home/biocbuild/R/R/bin/R CMD INSTALL ExCluster StartedAt: 2025-10-13 21:02:41 -0000 (Mon, 13 Oct 2025) EndedAt: 2025-10-13 21:03:19 -0000 (Mon, 13 Oct 2025) EllapsedTime: 38.8 seconds RetCode: 0 Status: OK