Package: ExCluster Version: 1.29.0 Command: /home/biocbuild/bbs-3.23-bioc/R/bin/R CMD INSTALL ExCluster StartedAt: 2025-11-05 15:33:15 -0500 (Wed, 05 Nov 2025) EndedAt: 2025-11-05 15:33:44 -0500 (Wed, 05 Nov 2025) EllapsedTime: 29.8 seconds RetCode: 0 Status: OK