Package: ExCluster Version: 1.29.0 Command: /home/biocbuild/bbs-3.23-bioc/R/bin/R CMD check --install=check:ExCluster.install-out.txt --library=/home/biocbuild/bbs-3.23-bioc/R/site-library --timings ExCluster_1.29.0.tar.gz StartedAt: 2025-11-06 23:14:53 -0500 (Thu, 06 Nov 2025) EndedAt: 2025-11-06 23:18:25 -0500 (Thu, 06 Nov 2025) EllapsedTime: 212.4 seconds RetCode: 0 Status: OK CheckDir: ExCluster.Rcheck Warnings: 0