Package: ExCluster Version: 1.29.0 Command: /home/biocbuild/bbs-3.23-bioc/R/bin/R CMD build --keep-empty-dirs --no-resave-data ExCluster StartedAt: 2025-11-05 17:37:06 -0500 (Wed, 05 Nov 2025) EndedAt: 2025-11-05 17:37:49 -0500 (Wed, 05 Nov 2025) EllapsedTime: 43.0 seconds RetCode: 0 Status: OK PackageFile: ExCluster_1.29.0.tar.gz PackageFileSize: 404.9 KiB