Package: EventPointer Version: 3.19.0 Command: /home/biocbuild/bbs-3.23-bioc/R/bin/R CMD INSTALL EventPointer StartedAt: 2025-11-05 16:06:59 -0500 (Wed, 05 Nov 2025) EndedAt: 2025-11-05 16:07:13 -0500 (Wed, 05 Nov 2025) EllapsedTime: 14.3 seconds RetCode: 1 Status: ERROR